BEGIN:VCALENDAR
VERSION:2.0
PRODID:-//wp-events-plugin.com//7.2.2.1//EN
BEGIN:VEVENT
UID:19402@ripleytraining.co.uk
DTSTART;TZID=Europe/London:20270513T090000
DTEND;TZID=Europe/London:20270513T163000
DTSTAMP:20260419T143815Z
URL:https://www.ripleytraining.co.uk/events/achieving-personal-effectivene
 ss-training-course-1-day-3-2027-01-14-2027-02-11-2027-03-11-2027-04-08-202
 7-05-13/
SUMMARY:Achieving Personal Effectiveness Training Course (1 Day)
DESCRIPTION:
CATEGORIES:Achieving Personal Effectiveness Training Course (1 Day),PA -
 EA - Secretarial and Receptionist Courses
LOCATION:Leeds (LS1 4HR)\, Novotel\, Leeds\, LS1 4HR\, United Kingdom
GEO:53.7953319;-1.552943599999935
X-APPLE-STRUCTURED-LOCATION;VALUE=URI;X-ADDRESS=Novotel\, Leeds\, LS1 4HR\,
  United Kingdom;X-APPLE-RADIUS=100;X-TITLE=Leeds (LS1 4HR):geo:53.7953319,
 -1.552943599999935
END:VEVENT
BEGIN:VTIMEZONE
TZID:Europe/London
X-LIC-LOCATION:Europe/London
BEGIN:DAYLIGHT
DTSTART:20270328T020000
TZOFFSETFROM:+0000
TZOFFSETTO:+0100
TZNAME:BST
END:DAYLIGHT
END:VTIMEZONE
END:VCALENDAR