BEGIN:VCALENDAR
VERSION:2.0
PRODID:-//wp-events-plugin.com//7.2.2.1//EN
BEGIN:VEVENT
UID:18799@ripleytraining.co.uk
DTSTART;TZID=Europe/London:20270205T090000
DTEND;TZID=Europe/London:20270205T163000
DTSTAMP:20260418T213507Z
URL:https://www.ripleytraining.co.uk/events/administrator-skills-training-
 course-1-day-2-2027-01-01-2027-02-05/
SUMMARY:Administrator Skills Training Course (1 Day)
DESCRIPTION:
CATEGORIES:Administrator Skills Training Course (1 Day),Team Member and
 Professional Courses
LOCATION:York (YO24 1QQ)\, Marriott Hotel\, York\, YO24 1QQ\, United Kingdo
 m
GEO:53.9416075;-1.1043740999999727
X-APPLE-STRUCTURED-LOCATION;VALUE=URI;X-ADDRESS=Marriott Hotel\, York\, YO2
 4 1QQ\, United Kingdom;X-APPLE-RADIUS=100;X-TITLE=York (YO24 1QQ):geo:53.9
 416075,-1.1043740999999727
END:VEVENT
BEGIN:VTIMEZONE
TZID:Europe/London
X-LIC-LOCATION:Europe/London
BEGIN:STANDARD
DTSTART:20261025T010000
TZOFFSETFROM:+0100
TZOFFSETTO:+0000
TZNAME:GMT
END:STANDARD
END:VTIMEZONE
END:VCALENDAR