BEGIN:VCALENDAR
VERSION:2.0
PRODID:-//wp-events-plugin.com//7.2.2.1//EN
BEGIN:VEVENT
UID:18016@ripleytraining.co.uk
DTSTART;TZID=Europe/London:20280906T090000
DTEND;TZID=Europe/London:20280906T163000
DTSTAMP:20260418T205246Z
URL:https://www.ripleytraining.co.uk/events/administrator-skills-training-
 course-1-day-5-2027-01-06-2027-03-03-2027-05-05-2027-07-07-2027-09-01-2027
 -11-03-2028-01-05-2028-03-01-2028-05-03-2028-07-05-2028-09-06/
SUMMARY:Administrator Skills Training Course (1 Day)
DESCRIPTION:
CATEGORIES:Administrator Skills Training Course (1 Day),Team Member and
 Professional Courses
LOCATION:Manchester (M4 4AF)\, Crowne Plaza Hotel\, Manchester\, M4 4AF\, U
 nited Kingdom
GEO:53.485857;-2.236363
X-APPLE-STRUCTURED-LOCATION;VALUE=URI;X-ADDRESS=Crowne Plaza Hotel\, Manche
 ster\, M4 4AF\, United Kingdom;X-APPLE-RADIUS=100;X-TITLE=Manchester (M4 4
 AF):geo:53.485857,-2.236363
END:VEVENT
BEGIN:VTIMEZONE
TZID:Europe/London
X-LIC-LOCATION:Europe/London
BEGIN:DAYLIGHT
DTSTART:20280326T020000
TZOFFSETFROM:+0000
TZOFFSETTO:+0100
TZNAME:BST
END:DAYLIGHT
END:VTIMEZONE
END:VCALENDAR