BEGIN:VCALENDAR
VERSION:2.0
PRODID:-//wp-events-plugin.com//7.2.2.1//EN
BEGIN:VEVENT
UID:18023@ripleytraining.co.uk
DTSTART;TZID=Europe/London:20271103T090000
DTEND;TZID=Europe/London:20271103T163000
DTSTAMP:20260418T205338Z
URL:https://www.ripleytraining.co.uk/events/advanced-first-line-management
 -and-supervision-skills-training-course-1-day-2-2027-01-06-2027-03-03-2027
 -05-05-2027-07-07-2027-09-01-2027-11-03/
SUMMARY:Advanced First Line Management and Supervision Skills Training Cour
 se (1 day)
DESCRIPTION:
CATEGORIES:Advanced First Line Management and Supervision Skills Training
 Course (1 day),Leadership and Management Courses
LOCATION:Manchester (M4 4AF)\, Crowne Plaza Hotel\, Manchester\, M4 4AF\, U
 nited Kingdom
GEO:53.485857;-2.236363
X-APPLE-STRUCTURED-LOCATION;VALUE=URI;X-ADDRESS=Crowne Plaza Hotel\, Manche
 ster\, M4 4AF\, United Kingdom;X-APPLE-RADIUS=100;X-TITLE=Manchester (M4 4
 AF):geo:53.485857,-2.236363
END:VEVENT
BEGIN:VTIMEZONE
TZID:Europe/London
X-LIC-LOCATION:Europe/London
BEGIN:STANDARD
DTSTART:20271031T010000
TZOFFSETFROM:+0100
TZOFFSETTO:+0000
TZNAME:GMT
END:STANDARD
END:VTIMEZONE
END:VCALENDAR