BEGIN:VCALENDAR
VERSION:2.0
PRODID:-//wp-events-plugin.com//7.2.2.1//EN
BEGIN:VEVENT
UID:17666@ripleytraining.co.uk
DTSTART;TZID=Europe/London:20280502T090000
DTEND;TZID=Europe/London:20280502T163000
DTSTAMP:20260418T203653Z
URL:https://www.ripleytraining.co.uk/events/advanced-first-line-management
 -and-supervision-skills-training-course-1-day-2027-01-05-2027-03-02-2027-0
 5-04-2027-07-06-2027-09-07-2027-11-02-2028-01-04-2028-03-07-2028-05-02/
SUMMARY:Advanced First Line Management and Supervision Skills Training Cour
 se (1 day)
DESCRIPTION:
CATEGORIES:Advanced First Line Management and Supervision Skills Training
 Course (1 day),Leadership and Management Courses
LOCATION:London Hilton Euston (WC1H 0HT)\, Hilton Euston Hotel\, 17-18 Uppe
 r Woburn Place\, London\, WC1H 0HT\, United Kingdom
GEO:51.526462;-0.130115
X-APPLE-STRUCTURED-LOCATION;VALUE=URI;X-ADDRESS=Hilton Euston Hotel\, 17-18
  Upper Woburn Place\, London\, WC1H 0HT\, United Kingdom;X-APPLE-RADIUS=10
 0;X-TITLE=London Hilton Euston (WC1H 0HT):geo:51.526462,-0.130115
END:VEVENT
BEGIN:VTIMEZONE
TZID:Europe/London
X-LIC-LOCATION:Europe/London
BEGIN:DAYLIGHT
DTSTART:20280326T020000
TZOFFSETFROM:+0000
TZOFFSETTO:+0100
TZNAME:BST
END:DAYLIGHT
END:VTIMEZONE
END:VCALENDAR