BEGIN:VCALENDAR
VERSION:2.0
PRODID:-//wp-events-plugin.com//7.2.2.1//EN
BEGIN:VEVENT
UID:18275@ripleytraining.co.uk
DTSTART;TZID=Europe/London:20271104T090000
DTEND;TZID=Europe/London:20271104T163000
DTSTAMP:20260418T210706Z
URL:https://www.ripleytraining.co.uk/events/advanced-first-line-management
 -and-supervision-skills-training-course-1-day-3-2027-01-07-2027-03-04-2027
 -05-06-2027-07-01-2027-09-02-2027-11-04/
SUMMARY:Advanced First Line Management and Supervision Skills Training Cour
 se (1 day)
DESCRIPTION:
CATEGORIES:Advanced First Line Management and Supervision Skills Training
 Course (1 day),Leadership and Management Courses
LOCATION:Leeds (LS1 4HR)\, Novotel\, Leeds\, LS1 4HR\, United Kingdom
GEO:53.7953319;-1.552943599999935
X-APPLE-STRUCTURED-LOCATION;VALUE=URI;X-ADDRESS=Novotel\, Leeds\, LS1 4HR\,
  United Kingdom;X-APPLE-RADIUS=100;X-TITLE=Leeds (LS1 4HR):geo:53.7953319,
 -1.552943599999935
END:VEVENT
BEGIN:VTIMEZONE
TZID:Europe/London
X-LIC-LOCATION:Europe/London
BEGIN:STANDARD
DTSTART:20271031T010000
TZOFFSETFROM:+0100
TZOFFSETTO:+0000
TZNAME:GMT
END:STANDARD
END:VTIMEZONE
END:VCALENDAR