BEGIN:VCALENDAR
VERSION:2.0
PRODID:-//wp-events-plugin.com//7.2.2.1//EN
BEGIN:VEVENT
UID:18888@ripleytraining.co.uk
DTSTART;TZID=Europe/London:20280111T090000
DTEND;TZID=Europe/London:20280111T163000
DTSTAMP:20260418T214406Z
URL:https://www.ripleytraining.co.uk/events/advanced-first-line-management
 -and-supervision-skills-training-course-1-day-4-2027-01-12-2027-03-09-2027
 -05-11-2027-07-13-2027-09-14-2027-11-09-2028-01-11/
SUMMARY:Advanced First Line Management and Supervision Skills Training Cour
 se (1 day)
DESCRIPTION:
CATEGORIES:Advanced First Line Management and Supervision Skills Training
 Course (1 day),Leadership and Management Courses
LOCATION:Edinburgh (EH3 9DE)\, Novotel Edinburgh Central\, Edinburgh\, EH3 
 9DE\, Scotland
GEO:55.9451264;-3.199793399999976
X-APPLE-STRUCTURED-LOCATION;VALUE=URI;X-ADDRESS=Novotel Edinburgh Central\,
  Edinburgh\, EH3 9DE\, Scotland;X-APPLE-RADIUS=100;X-TITLE=Edinburgh (EH3 
 9DE):geo:55.9451264,-3.199793399999976
END:VEVENT
BEGIN:VTIMEZONE
TZID:Europe/London
X-LIC-LOCATION:Europe/London
BEGIN:STANDARD
DTSTART:20271031T010000
TZOFFSETFROM:+0100
TZOFFSETTO:+0000
TZNAME:GMT
END:STANDARD
END:VTIMEZONE
END:VCALENDAR