BEGIN:VCALENDAR
VERSION:2.0
PRODID:-//wp-events-plugin.com//7.2.2.1//EN
BEGIN:VEVENT
UID:20305@ripleytraining.co.uk
DTSTART;TZID=Europe/London:20270824T090000
DTEND;TZID=Europe/London:20270826T163000
DTSTAMP:20260419T160509Z
URL:https://www.ripleytraining.co.uk/events/advanced-personal-and-executiv
 e-assistant-development-programme-3-days-5-2027-01-26-2027-02-23-2027-03-2
 3-2027-04-27-2027-05-25-2027-06-22-2027-07-27-2027-08-24/
SUMMARY:Advanced Personal and Executive Assistant Development Programme (3 
 Days)
DESCRIPTION:
CATEGORIES:Advanced Personal and Executive Assistant Development Programme
 (3 Days),PA - EA - Secretarial and Receptionist Courses
LOCATION:Knaresborough - North Yorkshire (HG5 8LF)\, Knaresborough Technolo
 gy Park\, Knaresborough\, North Yorkshire\, HG5 8LF\, United Kingdom
GEO:54.004989;-1.447223
X-APPLE-STRUCTURED-LOCATION;VALUE=URI;X-ADDRESS=Knaresborough Technology Pa
 rk\, Knaresborough\, North Yorkshire\, HG5 8LF\, United Kingdom;X-APPLE-RA
 DIUS=100;X-TITLE=Knaresborough - North Yorkshire (HG5 8LF):geo:54.004989,-
 1.447223
END:VEVENT
BEGIN:VTIMEZONE
TZID:Europe/London
X-LIC-LOCATION:Europe/London
BEGIN:DAYLIGHT
DTSTART:20270328T020000
TZOFFSETFROM:+0000
TZOFFSETTO:+0100
TZNAME:BST
END:DAYLIGHT
END:VTIMEZONE
END:VCALENDAR