BEGIN:VCALENDAR
VERSION:2.0
PRODID:-//wp-events-plugin.com//7.2.2.1//EN
BEGIN:VEVENT
UID:18874@ripleytraining.co.uk
DTSTART;TZID=Europe/London:20280509T090000
DTEND;TZID=Europe/London:20280511T163000
DTSTAMP:20260418T214232Z
URL:https://www.ripleytraining.co.uk/events/advanced-personal-and-executiv
 e-assistant-development-programme-3-days-7-2027-01-12-2027-02-09-2027-03-0
 9-2027-04-13-2027-05-11-2027-06-08-2027-07-13-2027-08-10-2027-09-14-2027-1
 0-12-202-11-2028-05-09/
SUMMARY:Advanced Personal and Executive Assistant Development Programme (3 
 Days)
DESCRIPTION:
CATEGORIES:Advanced Personal and Executive Assistant Development Programme
 (3 Days),PA - EA - Secretarial and Receptionist Courses
LOCATION:Manchester (M4 4AF)\, Crowne Plaza Hotel\, Manchester\, M4 4AF\, U
 nited Kingdom
GEO:53.485857;-2.236363
X-APPLE-STRUCTURED-LOCATION;VALUE=URI;X-ADDRESS=Crowne Plaza Hotel\, Manche
 ster\, M4 4AF\, United Kingdom;X-APPLE-RADIUS=100;X-TITLE=Manchester (M4 4
 AF):geo:53.485857,-2.236363
END:VEVENT
BEGIN:VTIMEZONE
TZID:Europe/London
X-LIC-LOCATION:Europe/London
BEGIN:DAYLIGHT
DTSTART:20280326T020000
TZOFFSETFROM:+0000
TZOFFSETTO:+0100
TZNAME:BST
END:DAYLIGHT
END:VTIMEZONE
END:VCALENDAR