BEGIN:VCALENDAR
VERSION:2.0
PRODID:-//wp-events-plugin.com//7.2.2.1//EN
BEGIN:VEVENT
UID:19693@ripleytraining.co.uk
DTSTART;TZID=Europe/London:20270818T090000
DTEND;TZID=Europe/London:20270818T163000
DTSTAMP:20260419T145344Z
URL:https://www.ripleytraining.co.uk/events/assertiveness-skills-training-
 course-1-day-3-2027-01-20-2027-02-17-2027-03-17-2027-04-21-2027-05-19-2027
 -06-16-2027-07-21-2027-08-18/
SUMMARY:Assertiveness Skills Training Course (1 Day)
DESCRIPTION:
CATEGORIES:Assertiveness Skills Training Course (1 Day),Team Member and
 Professional Courses
LOCATION:Manchester (M4 4AF)\, Crowne Plaza Hotel\, Manchester\, M4 4AF\, U
 nited Kingdom
GEO:53.485857;-2.236363
X-APPLE-STRUCTURED-LOCATION;VALUE=URI;X-ADDRESS=Crowne Plaza Hotel\, Manche
 ster\, M4 4AF\, United Kingdom;X-APPLE-RADIUS=100;X-TITLE=Manchester (M4 4
 AF):geo:53.485857,-2.236363
END:VEVENT
BEGIN:VTIMEZONE
TZID:Europe/London
X-LIC-LOCATION:Europe/London
BEGIN:DAYLIGHT
DTSTART:20270328T020000
TZOFFSETFROM:+0000
TZOFFSETTO:+0100
TZNAME:BST
END:DAYLIGHT
END:VTIMEZONE
END:VCALENDAR