BEGIN:VCALENDAR
VERSION:2.0
PRODID:-//wp-events-plugin.com//7.2.2.1//EN
BEGIN:VEVENT
UID:18917@ripleytraining.co.uk
DTSTART;TZID=Europe/London:20281212T090000
DTEND;TZID=Europe/London:20281212T163000
DTSTAMP:20260418T214510Z
URL:https://www.ripleytraining.co.uk/events/assertiveness-skills-training-
 course-1-day-7-2027-01-12-2027-02-09-2027-03-09-2027-04-13-2027-05-11-2027
 -06-08-2027-07-13-2027-08-10-2027-09-14-2027-10-12-2027-11-09-2027-12-14-2
 028-01-1-14-2028-12-12/
SUMMARY:Assertiveness Skills Training Course (1 Day)
DESCRIPTION:
CATEGORIES:Assertiveness Skills Training Course (1 Day),Team Member and
 Professional Courses
LOCATION:London Hilton Euston (WC1H 0HT)\, Hilton Euston Hotel\, 17-18 Uppe
 r Woburn Place\, London\, WC1H 0HT\, United Kingdom
GEO:51.526462;-0.130115
X-APPLE-STRUCTURED-LOCATION;VALUE=URI;X-ADDRESS=Hilton Euston Hotel\, 17-18
  Upper Woburn Place\, London\, WC1H 0HT\, United Kingdom;X-APPLE-RADIUS=10
 0;X-TITLE=London Hilton Euston (WC1H 0HT):geo:51.526462,-0.130115
END:VEVENT
BEGIN:VTIMEZONE
TZID:Europe/London
X-LIC-LOCATION:Europe/London
BEGIN:STANDARD
DTSTART:20281029T010000
TZOFFSETFROM:+0100
TZOFFSETTO:+0000
TZNAME:GMT
END:STANDARD
END:VTIMEZONE
END:VCALENDAR