BEGIN:VCALENDAR
VERSION:2.0
PRODID:-//wp-events-plugin.com//7.2.2.1//EN
BEGIN:VEVENT
UID:18310@ripleytraining.co.uk
DTSTART;TZID=Europe/London:20280504T090000
DTEND;TZID=Europe/London:20280504T163000
DTSTAMP:20260418T210902Z
URL:https://www.ripleytraining.co.uk/events/chairing-and-facilitating-mana
 gement-and-team-meetings-training-course-1-day-4-2027-01-07-2027-02-04-202
 7-03-04-2027-04-01-2027-05-06-2027-06-03-2027-07-01-2027-08-05-2027-09-02-
 2027-10-06-2028-05-04/
SUMMARY:Chairing and Facilitating Management and Team Meetings Training Cou
 rse (1 Day)
DESCRIPTION:
CATEGORIES:Chairing and Facilitating Management and Team Meetings Training
 Course (1 Day),Leadership and Management Courses
LOCATION:London Hilton Euston (WC1H 0HT)\, Hilton Euston Hotel\, 17-18 Uppe
 r Woburn Place\, London\, WC1H 0HT\, United Kingdom
GEO:51.526462;-0.130115
X-APPLE-STRUCTURED-LOCATION;VALUE=URI;X-ADDRESS=Hilton Euston Hotel\, 17-18
  Upper Woburn Place\, London\, WC1H 0HT\, United Kingdom;X-APPLE-RADIUS=10
 0;X-TITLE=London Hilton Euston (WC1H 0HT):geo:51.526462,-0.130115
END:VEVENT
BEGIN:VTIMEZONE
TZID:Europe/London
X-LIC-LOCATION:Europe/London
BEGIN:DAYLIGHT
DTSTART:20280326T020000
TZOFFSETFROM:+0000
TZOFFSETTO:+0100
TZNAME:BST
END:DAYLIGHT
END:VTIMEZONE
END:VCALENDAR