BEGIN:VCALENDAR
VERSION:2.0
PRODID:-//wp-events-plugin.com//7.2.2.1//EN
BEGIN:VEVENT
UID:19454@ripleytraining.co.uk
DTSTART;TZID=Europe/London:20280914T090000
DTEND;TZID=Europe/London:20280914T163000
DTSTAMP:20260419T144002Z
URL:https://www.ripleytraining.co.uk/events/chairing-and-facilitating-mana
 gement-and-team-meetings-training-course-1-day-7-2027-01-14-2027-02-11-202
 7-03-11-2027-04-08-2027-05-13-2027-06-10-2027-07-08-2027-08-12-2027-09-09-
 2027-10-10-2028-09-14/
SUMMARY:Chairing and Facilitating Management and Team Meetings Training Cou
 rse (1 Day)
DESCRIPTION:
CATEGORIES:Chairing and Facilitating Management and Team Meetings Training
 Course (1 Day),Leadership and Management Courses
LOCATION:Leeds (LS1 4HR)\, Novotel\, Leeds\, LS1 4HR\, United Kingdom
GEO:53.7953319;-1.552943599999935
X-APPLE-STRUCTURED-LOCATION;VALUE=URI;X-ADDRESS=Novotel\, Leeds\, LS1 4HR\,
  United Kingdom;X-APPLE-RADIUS=100;X-TITLE=Leeds (LS1 4HR):geo:53.7953319,
 -1.552943599999935
END:VEVENT
BEGIN:VTIMEZONE
TZID:Europe/London
X-LIC-LOCATION:Europe/London
BEGIN:DAYLIGHT
DTSTART:20280326T020000
TZOFFSETFROM:+0000
TZOFFSETTO:+0100
TZNAME:BST
END:DAYLIGHT
END:VTIMEZONE
END:VCALENDAR