BEGIN:VCALENDAR
VERSION:2.0
PRODID:-//wp-events-plugin.com//7.2.2.1//EN
BEGIN:VEVENT
UID:20680@ripleytraining.co.uk
DTSTART;TZID=Europe/London:20281123T090000
DTEND;TZID=Europe/London:20281123T163000
DTSTAMP:20260419T161719Z
URL:https://www.ripleytraining.co.uk/events/coaching-and-mentoring-skills-
 for-managers-training-course-1-day-3-2027-01-28-2027-02-25-2027-03-25-2027
 -04-22-2027-05-27-2027-06-24-2027-07-22-2027-08-26-2027-09-23-2027-10-28-2
 027-11-2-26-2028-11-23/
SUMMARY:Coaching and Mentoring Skills for Managers Training Course (1 Day)
DESCRIPTION:
CATEGORIES:Coaching and Mentoring Skills for Managers Training Course (1
 Day),Leadership and Management Courses
LOCATION:London Hilton Euston (WC1H 0HT)\, Hilton Euston Hotel\, 17-18 Uppe
 r Woburn Place\, London\, WC1H 0HT\, United Kingdom
GEO:51.526462;-0.130115
X-APPLE-STRUCTURED-LOCATION;VALUE=URI;X-ADDRESS=Hilton Euston Hotel\, 17-18
  Upper Woburn Place\, London\, WC1H 0HT\, United Kingdom;X-APPLE-RADIUS=10
 0;X-TITLE=London Hilton Euston (WC1H 0HT):geo:51.526462,-0.130115
END:VEVENT
BEGIN:VTIMEZONE
TZID:Europe/London
X-LIC-LOCATION:Europe/London
BEGIN:STANDARD
DTSTART:20281029T010000
TZOFFSETFROM:+0100
TZOFFSETTO:+0000
TZNAME:GMT
END:STANDARD
END:VTIMEZONE
END:VCALENDAR