BEGIN:VCALENDAR
VERSION:2.0
PRODID:-//wp-events-plugin.com//7.2.2.1//EN
BEGIN:VEVENT
UID:19992@ripleytraining.co.uk
DTSTART;TZID=Europe/London:20280720T090000
DTEND;TZID=Europe/London:20280720T163000
DTSTAMP:20260419T151229Z
URL:https://www.ripleytraining.co.uk/events/communicating-with-confidence-
 and-personal-impact-training-course-1-day-2-2027-01-21-2027-02-18-2027-03-
 18-2027-04-15-2027-05-20-2027-06-17-2027-07-15-2027-08-19-2027-09-16-2027-
 10-21-20-15-2028-07-20/
SUMMARY:Communicating with Confidence and Personal Impact Training Course (
 1 Day)
DESCRIPTION:
CATEGORIES:Communicating with Confidence and Personal Impact Training
 Course (1 Day),Team Member and Professional Courses
LOCATION:Leeds (LS1 4HR)\, Novotel\, Leeds\, LS1 4HR\, United Kingdom
GEO:53.7953319;-1.552943599999935
X-APPLE-STRUCTURED-LOCATION;VALUE=URI;X-ADDRESS=Novotel\, Leeds\, LS1 4HR\,
  United Kingdom;X-APPLE-RADIUS=100;X-TITLE=Leeds (LS1 4HR):geo:53.7953319,
 -1.552943599999935
END:VEVENT
BEGIN:VTIMEZONE
TZID:Europe/London
X-LIC-LOCATION:Europe/London
BEGIN:DAYLIGHT
DTSTART:20280326T020000
TZOFFSETFROM:+0000
TZOFFSETTO:+0100
TZNAME:BST
END:DAYLIGHT
END:VTIMEZONE
END:VCALENDAR