BEGIN:VCALENDAR
VERSION:2.0
PRODID:-//wp-events-plugin.com//7.2.2.1//EN
BEGIN:VEVENT
UID:18921@ripleytraining.co.uk
DTSTART;TZID=Europe/London:20270713T090000
DTEND;TZID=Europe/London:20270713T163000
DTSTAMP:20260418T214607Z
URL:https://www.ripleytraining.co.uk/events/communicating-with-confidence-
 and-personal-impact-training-course-1-day-2027-01-12-2027-03-09-2027-05-11
 -2027-07-13/
SUMMARY:Communicating with Confidence and Personal Impact Training Course (
 1 Day)
DESCRIPTION:
CATEGORIES:Communicating with Confidence and Personal Impact Training
 Course (1 Day),Team Member and Professional Courses
LOCATION:Newcastle Gateshead (NE8 2AR)\, Newcastle Gateshead Hilton\, Newca
 stle\, NE8 2AR\, United Kingdom
GEO:54.966418;-1.605796
X-APPLE-STRUCTURED-LOCATION;VALUE=URI;X-ADDRESS=Newcastle Gateshead Hilton\
 , Newcastle\, NE8 2AR\, United Kingdom;X-APPLE-RADIUS=100;X-TITLE=Newcastl
 e Gateshead (NE8 2AR):geo:54.966418,-1.605796
END:VEVENT
BEGIN:VTIMEZONE
TZID:Europe/London
X-LIC-LOCATION:Europe/London
BEGIN:DAYLIGHT
DTSTART:20270328T020000
TZOFFSETFROM:+0000
TZOFFSETTO:+0100
TZNAME:BST
END:DAYLIGHT
END:VTIMEZONE
END:VCALENDAR