BEGIN:VCALENDAR
VERSION:2.0
PRODID:-//wp-events-plugin.com//7.2.2.1//EN
BEGIN:VEVENT
UID:20686@ripleytraining.co.uk
DTSTART;TZID=Europe/London:20270706T090000
DTEND;TZID=Europe/London:20270706T163000
DTSTAMP:20260419T161803Z
URL:https://www.ripleytraining.co.uk/events/communicating-with-confidence-
 and-personal-impact-training-course-1-day-5-2026-11-03-2027-01-05-2027-03-
 02-2027-05-04-2027-07-06/
SUMMARY:Communicating with Confidence and Personal Impact Training Course (
 1 Day)
DESCRIPTION:
CATEGORIES:Communicating with Confidence and Personal Impact Training
 Course (1 Day),Team Member and Professional Courses
LOCATION:Edinburgh (EH3 9DE)\, Novotel Edinburgh Central\, Edinburgh\, EH3 
 9DE\, Scotland
GEO:55.9451264;-3.199793399999976
X-APPLE-STRUCTURED-LOCATION;VALUE=URI;X-ADDRESS=Novotel Edinburgh Central\,
  Edinburgh\, EH3 9DE\, Scotland;X-APPLE-RADIUS=100;X-TITLE=Edinburgh (EH3 
 9DE):geo:55.9451264,-3.199793399999976
END:VEVENT
BEGIN:VTIMEZONE
TZID:Europe/London
X-LIC-LOCATION:Europe/London
BEGIN:DAYLIGHT
DTSTART:20270328T020000
TZOFFSETFROM:+0000
TZOFFSETTO:+0100
TZNAME:BST
END:DAYLIGHT
END:VTIMEZONE
END:VCALENDAR