BEGIN:VCALENDAR
VERSION:2.0
PRODID:-//wp-events-plugin.com//7.2.2.1//EN
BEGIN:VEVENT
UID:15048@ripleytraining.co.uk
DTSTART;TZID=Europe/London:20261110T090000
DTEND;TZID=Europe/London:20261110T163000
DTSTAMP:20260419T143141Z
URL:https://www.ripleytraining.co.uk/events/communicating-with-confidence-
 and-personal-impact-training-course-1-day-7-2026-11-10/
SUMMARY:Communicating with Confidence and Personal Impact Training Course (
 1 Day)
DESCRIPTION:
CATEGORIES:Communicating with Confidence and Personal Impact Training
 Course (1 Day),Team Member and Professional Courses
LOCATION:Birmingham (B1 2HT)\, Novotel\, Birmingham\, B1 2HT\, United Kingd
 om
GEO:52.4763931;-1.9134664
X-APPLE-STRUCTURED-LOCATION;VALUE=URI;X-ADDRESS=Novotel\, Birmingham\, B1 2
 HT\, United Kingdom;X-APPLE-RADIUS=100;X-TITLE=Birmingham (B1 2HT):geo:52.
 4763931,-1.9134664
END:VEVENT
BEGIN:VTIMEZONE
TZID:Europe/London
X-LIC-LOCATION:Europe/London
BEGIN:STANDARD
DTSTART:20261025T010000
TZOFFSETFROM:+0100
TZOFFSETTO:+0000
TZNAME:GMT
END:STANDARD
END:VTIMEZONE
END:VCALENDAR