BEGIN:VCALENDAR
VERSION:2.0
PRODID:-//wp-events-plugin.com//7.2.2.1//EN
BEGIN:VEVENT
UID:19586@ripleytraining.co.uk
DTSTART;TZID=Europe/London:20280919T090000
DTEND;TZID=Europe/London:20280919T163000
DTSTAMP:20260419T144857Z
URL:https://www.ripleytraining.co.uk/events/customer-service-skills-traini
 ng-course-1-day-2027-01-19-2027-02-16-2027-03-16-2027-04-20-2027-05-18-202
 7-06-15-2027-07-20-2027-08-17-2027-09-21-2027-10-19-2027-11-16-2027-12-21-
 2028-01-15-2028-09-19/
SUMMARY:Customer Service Skills Training Course (1 Day)
DESCRIPTION:
CATEGORIES:Customer Service Skills Training Course (1 Day),Team Member and
 Professional Courses
LOCATION:Leeds (LS1 4HR)\, Novotel\, Leeds\, LS1 4HR\, United Kingdom
GEO:53.7953319;-1.552943599999935
X-APPLE-STRUCTURED-LOCATION;VALUE=URI;X-ADDRESS=Novotel\, Leeds\, LS1 4HR\,
  United Kingdom;X-APPLE-RADIUS=100;X-TITLE=Leeds (LS1 4HR):geo:53.7953319,
 -1.552943599999935
END:VEVENT
BEGIN:VTIMEZONE
TZID:Europe/London
X-LIC-LOCATION:Europe/London
BEGIN:DAYLIGHT
DTSTART:20280326T020000
TZOFFSETFROM:+0000
TZOFFSETTO:+0100
TZNAME:BST
END:DAYLIGHT
END:VTIMEZONE
END:VCALENDAR