BEGIN:VCALENDAR
VERSION:2.0
PRODID:-//wp-events-plugin.com//7.2.2.1//EN
BEGIN:VEVENT
UID:20625@ripleytraining.co.uk
DTSTART;TZID=Europe/London:20280426T090000
DTEND;TZID=Europe/London:20280426T163000
DTSTAMP:20260419T161547Z
URL:https://www.ripleytraining.co.uk/events/diversity-and-inclusion-traini
 ng-course-2027-01-27-2027-02-24-2027-03-24-2027-04-28-2027-05-26-2027-06-2
 3-2027-07-28-2027-08-25-2027-09-22-2027-10-27-2027-11-24-2027-12-22-2028-0
 1-26-202-22-2028-04-26/
SUMMARY:Virtual Diversity and Inclusion Training Course
DESCRIPTION:
CATEGORIES:Diversity and Inclusion Training Course (1 Day In-company),Team
 Member and Professional Courses
LOCATION:Virtual Training\, Knaresborough Technology Park\, Knaresborough\,
  North Yorkshire\, HG5 8LF\, United Kingdom
GEO:54.004462;-1.446786
X-APPLE-STRUCTURED-LOCATION;VALUE=URI;X-ADDRESS=Knaresborough Technology Pa
 rk\, Knaresborough\, North Yorkshire\, HG5 8LF\, United Kingdom;X-APPLE-RA
 DIUS=100;X-TITLE=Virtual Training:geo:54.004462,-1.446786
END:VEVENT
BEGIN:VTIMEZONE
TZID:Europe/London
X-LIC-LOCATION:Europe/London
BEGIN:DAYLIGHT
DTSTART:20280326T020000
TZOFFSETFROM:+0000
TZOFFSETTO:+0100
TZNAME:BST
END:DAYLIGHT
END:VTIMEZONE
END:VCALENDAR