BEGIN:VCALENDAR
VERSION:2.0
PRODID:-//wp-events-plugin.com//7.2.2.1//EN
BEGIN:VEVENT
UID:20340@ripleytraining.co.uk
DTSTART;TZID=Europe/London:20280725T090000
DTEND;TZID=Europe/London:20280725T163000
DTSTAMP:20260419T160549Z
URL:https://www.ripleytraining.co.uk/events/diversity-and-inclusion-traini
 ng-course-3-2027-01-26-2027-02-23-2027-03-23-2027-04-27-2027-05-25-2027-06
 -22-2027-07-27-2027-08-24-2027-09-28-2027-10-26-2027-11-23-2027-12-28-2028
 -01-25-2-27-2028-07-25/
SUMMARY:Diversity and Inclusion Training Course
DESCRIPTION:
CATEGORIES:Diversity and Inclusion Training Course (1 Day In-company),Team
 Member and Professional Courses
LOCATION:Leeds (LS1 4HR)\, Novotel\, Leeds\, LS1 4HR\, United Kingdom
GEO:53.7953319;-1.552943599999935
X-APPLE-STRUCTURED-LOCATION;VALUE=URI;X-ADDRESS=Novotel\, Leeds\, LS1 4HR\,
  United Kingdom;X-APPLE-RADIUS=100;X-TITLE=Leeds (LS1 4HR):geo:53.7953319,
 -1.552943599999935
END:VEVENT
BEGIN:VTIMEZONE
TZID:Europe/London
X-LIC-LOCATION:Europe/London
BEGIN:DAYLIGHT
DTSTART:20280326T020000
TZOFFSETFROM:+0000
TZOFFSETTO:+0100
TZNAME:BST
END:DAYLIGHT
END:VTIMEZONE
END:VCALENDAR