BEGIN:VCALENDAR
VERSION:2.0
PRODID:-//wp-events-plugin.com//7.2.2.1//EN
BEGIN:VEVENT
UID:19329@ripleytraining.co.uk
DTSTART;TZID=Europe/London:20280412T090000
DTEND;TZID=Europe/London:20280412T163000
DTSTAMP:20260419T143413Z
URL:https://www.ripleytraining.co.uk/events/effective-credit-control-skill
 s-training-course-1-day-2-2027-01-13-2027-02-10-2027-03-10-2027-04-14-2027
 -05-12-2027-06-09-2027-07-14-2027-08-11-2027-09-08-2027-10-13-2027-11-10-2
 027-12-0-08-2028-04-12/
SUMMARY:Effective Credit Control Skills Training Course (1 Day)
DESCRIPTION:
CATEGORIES:Credit Control Courses,Effective Credit Control Skills Training
 Course (1 Day)
LOCATION:London Hilton Euston (WC1H 0HT)\, Hilton Euston Hotel\, 17-18 Uppe
 r Woburn Place\, London\, WC1H 0HT\, United Kingdom
GEO:51.526462;-0.130115
X-APPLE-STRUCTURED-LOCATION;VALUE=URI;X-ADDRESS=Hilton Euston Hotel\, 17-18
  Upper Woburn Place\, London\, WC1H 0HT\, United Kingdom;X-APPLE-RADIUS=10
 0;X-TITLE=London Hilton Euston (WC1H 0HT):geo:51.526462,-0.130115
END:VEVENT
BEGIN:VTIMEZONE
TZID:Europe/London
X-LIC-LOCATION:Europe/London
BEGIN:DAYLIGHT
DTSTART:20280326T020000
TZOFFSETFROM:+0000
TZOFFSETTO:+0100
TZNAME:BST
END:DAYLIGHT
END:VTIMEZONE
END:VCALENDAR