BEGIN:VCALENDAR
VERSION:2.0
PRODID:-//wp-events-plugin.com//7.2.2.1//EN
BEGIN:VEVENT
UID:18790@ripleytraining.co.uk
DTSTART;TZID=Europe/London:20280504T093000
DTEND;TZID=Europe/London:20280504T163000
DTSTAMP:20260418T213300Z
URL:https://www.ripleytraining.co.uk/events/effective-credit-control-skill
 s-training-course-1-day-2027-01-07-2027-02-04-2027-03-04-2027-04-01-2027-0
 5-06-2027-06-03-2027-07-01-2027-08-05-2027-09-02-2027-10-07-2027-11-04-202
 7-12-02-06-2028-05-04/
SUMMARY:Effective Credit Control Skills Training Course (1 Day)
DESCRIPTION:
CATEGORIES:Credit Control Courses,Effective Credit Control Skills Training
 Course (1 Day)
LOCATION:Leeds (LS1 4HR)\, Novotel\, Leeds\, LS1 4HR\, United Kingdom
GEO:53.7953319;-1.552943599999935
X-APPLE-STRUCTURED-LOCATION;VALUE=URI;X-ADDRESS=Novotel\, Leeds\, LS1 4HR\,
  United Kingdom;X-APPLE-RADIUS=100;X-TITLE=Leeds (LS1 4HR):geo:53.7953319,
 -1.552943599999935
END:VEVENT
BEGIN:VTIMEZONE
TZID:Europe/London
X-LIC-LOCATION:Europe/London
BEGIN:DAYLIGHT
DTSTART:20280326T020000
TZOFFSETFROM:+0000
TZOFFSETTO:+0100
TZNAME:BST
END:DAYLIGHT
END:VTIMEZONE
END:VCALENDAR