BEGIN:VCALENDAR
VERSION:2.0
PRODID:-//wp-events-plugin.com//7.2.2.1//EN
BEGIN:VEVENT
UID:18774@ripleytraining.co.uk
DTSTART;TZID=Europe/London:20270107T093000
DTEND;TZID=Europe/London:20270107T163000
DTSTAMP:20260418T213300Z
URL:https://www.ripleytraining.co.uk/events/effective-credit-control-skill
 s-training-course-1-day-2027-01-07/
SUMMARY:Effective Credit Control Skills Training Course (1 Day)
DESCRIPTION:
CATEGORIES:Credit Control Courses,Effective Credit Control Skills Training
 Course (1 Day)
LOCATION:Leeds (LS1 4HR)\, Novotel\, Leeds\, LS1 4HR\, United Kingdom
GEO:53.7953319;-1.552943599999935
X-APPLE-STRUCTURED-LOCATION;VALUE=URI;X-ADDRESS=Novotel\, Leeds\, LS1 4HR\,
  United Kingdom;X-APPLE-RADIUS=100;X-TITLE=Leeds (LS1 4HR):geo:53.7953319,
 -1.552943599999935
END:VEVENT
BEGIN:VTIMEZONE
TZID:Europe/London
X-LIC-LOCATION:Europe/London
BEGIN:STANDARD
DTSTART:20261025T010000
TZOFFSETFROM:+0100
TZOFFSETTO:+0000
TZNAME:GMT
END:STANDARD
END:VTIMEZONE
END:VCALENDAR