BEGIN:VCALENDAR
VERSION:2.0
PRODID:-//wp-events-plugin.com//7.2.2.1//EN
BEGIN:VEVENT
UID:19772@ripleytraining.co.uk
DTSTART;TZID=Europe/London:20280315T090000
DTEND;TZID=Europe/London:20280316T163000
DTSTAMP:20260419T150357Z
URL:https://www.ripleytraining.co.uk/events/effective-leadership-and-manag
 ement-course-2-days-10-2027-01-20-2027-02-17-2027-03-17-2027-04-21-2027-05
 -19-2027-06-16-2027-07-21-2027-08-18-2027-09-15-2027-10-20-2027-11-17-2027
 -12-15-2-16-2028-03-15/
SUMMARY:Effective Leadership and Management Course (2 Days)
DESCRIPTION:
CATEGORIES:Effective Leadership and Management Skills Course (2
 Days),Leadership and Management Courses
LOCATION:Virtual Training\, Knaresborough Technology Park\, Knaresborough\,
  North Yorkshire\, HG5 8LF\, United Kingdom
GEO:54.004462;-1.446786
X-APPLE-STRUCTURED-LOCATION;VALUE=URI;X-ADDRESS=Knaresborough Technology Pa
 rk\, Knaresborough\, North Yorkshire\, HG5 8LF\, United Kingdom;X-APPLE-RA
 DIUS=100;X-TITLE=Virtual Training:geo:54.004462,-1.446786
END:VEVENT
BEGIN:VTIMEZONE
TZID:Europe/London
X-LIC-LOCATION:Europe/London
BEGIN:STANDARD
DTSTART:20271031T010000
TZOFFSETFROM:+0100
TZOFFSETTO:+0000
TZNAME:GMT
END:STANDARD
END:VTIMEZONE
END:VCALENDAR