BEGIN:VCALENDAR
VERSION:2.0
PRODID:-//wp-events-plugin.com//7.2.2.1//EN
BEGIN:VEVENT
UID:18094@ripleytraining.co.uk
DTSTART;TZID=Europe/London:20280503T090000
DTEND;TZID=Europe/London:20280504T163000
DTSTAMP:20260418T205702Z
URL:https://www.ripleytraining.co.uk/events/effective-leadership-and-manag
 ement-course-2-days-15-2027-01-06-2027-02-03-2027-03-03-2027-04-07-2027-05
 -05-2027-06-02-2027-07-07-2027-08-04-2027-09-01-2027-10-06-2027-11-03-2027
 -12-01-2-05-2028-05-03/
SUMMARY:Effective Leadership and Management Course (2 Days)
DESCRIPTION:
CATEGORIES:Effective Leadership and Management Skills Course (2
 Days),Leadership and Management Courses
LOCATION:Knaresborough - North Yorkshire (HG5 8LF)\, Knaresborough Technolo
 gy Park\, Knaresborough\, North Yorkshire\, HG5 8LF\, United Kingdom
GEO:54.004989;-1.447223
X-APPLE-STRUCTURED-LOCATION;VALUE=URI;X-ADDRESS=Knaresborough Technology Pa
 rk\, Knaresborough\, North Yorkshire\, HG5 8LF\, United Kingdom;X-APPLE-RA
 DIUS=100;X-TITLE=Knaresborough - North Yorkshire (HG5 8LF):geo:54.004989,-
 1.447223
END:VEVENT
BEGIN:VTIMEZONE
TZID:Europe/London
X-LIC-LOCATION:Europe/London
BEGIN:DAYLIGHT
DTSTART:20280326T020000
TZOFFSETFROM:+0000
TZOFFSETTO:+0100
TZNAME:BST
END:DAYLIGHT
END:VTIMEZONE
END:VCALENDAR