BEGIN:VCALENDAR
VERSION:2.0
PRODID:-//wp-events-plugin.com//7.2.2.1//EN
BEGIN:VEVENT
UID:18079@ripleytraining.co.uk
DTSTART;TZID=Europe/London:20270203T090000
DTEND;TZID=Europe/London:20270204T163000
DTSTAMP:20260418T205702Z
URL:https://www.ripleytraining.co.uk/events/effective-leadership-and-manag
 ement-course-2-days-15-2027-01-06-2027-02-03/
SUMMARY:Effective Leadership and Management Course (2 Days)
DESCRIPTION:
CATEGORIES:Effective Leadership and Management Skills Course (2
 Days),Leadership and Management Courses
LOCATION:Knaresborough - North Yorkshire (HG5 8LF)\, Knaresborough Technolo
 gy Park\, Knaresborough\, North Yorkshire\, HG5 8LF\, United Kingdom
GEO:54.004989;-1.447223
X-APPLE-STRUCTURED-LOCATION;VALUE=URI;X-ADDRESS=Knaresborough Technology Pa
 rk\, Knaresborough\, North Yorkshire\, HG5 8LF\, United Kingdom;X-APPLE-RA
 DIUS=100;X-TITLE=Knaresborough - North Yorkshire (HG5 8LF):geo:54.004989,-
 1.447223
END:VEVENT
BEGIN:VTIMEZONE
TZID:Europe/London
X-LIC-LOCATION:Europe/London
BEGIN:STANDARD
DTSTART:20261025T010000
TZOFFSETFROM:+0100
TZOFFSETTO:+0000
TZNAME:GMT
END:STANDARD
END:VTIMEZONE
END:VCALENDAR