BEGIN:VCALENDAR
VERSION:2.0
PRODID:-//wp-events-plugin.com//7.2.2.1//EN
BEGIN:VEVENT
UID:19793@ripleytraining.co.uk
DTSTART;TZID=Europe/London:20281115T090000
DTEND;TZID=Europe/London:20281116T163000
DTSTAMP:20260419T150443Z
URL:https://www.ripleytraining.co.uk/events/effective-leadership-and-manag
 ement-skills-training-course-2-days-2027-01-20-2027-03-17-2027-05-19-2027-
 07-21-2027-09-15-2027-11-17-2028-01-19-2028-03-15-2028-05-17-2028-07-19-20
 28-09-20-2028-11-15/
SUMMARY:Effective Leadership and Management Skills Training Course (2 Days)
DESCRIPTION:
CATEGORIES:Effective Leadership and Management Skills Course (2
 Days),Leadership and Management Courses
LOCATION:Sheffield (S4 7YE)\, Crowne Plaza Royal Victoria Hotel\, Sheffield
 \,  S4 7YE\, United Kingdom
GEO:53.379134;-1.4677
X-APPLE-STRUCTURED-LOCATION;VALUE=URI;X-ADDRESS=Crowne Plaza Royal Victoria
  Hotel\, Sheffield\,  S4 7YE\, United Kingdom;X-APPLE-RADIUS=100;X-TITLE=S
 heffield (S4 7YE):geo:53.379134,-1.4677
END:VEVENT
BEGIN:VTIMEZONE
TZID:Europe/London
X-LIC-LOCATION:Europe/London
BEGIN:STANDARD
DTSTART:20281029T010000
TZOFFSETFROM:+0100
TZOFFSETTO:+0000
TZNAME:GMT
END:STANDARD
END:VTIMEZONE
END:VCALENDAR