BEGIN:VCALENDAR
VERSION:2.0
PRODID:-//wp-events-plugin.com//7.2.2.1//EN
BEGIN:VEVENT
UID:18112@ripleytraining.co.uk
DTSTART;TZID=Europe/London:20271103T090000
DTEND;TZID=Europe/London:20271103T163000
DTSTAMP:20260418T205802Z
URL:https://www.ripleytraining.co.uk/events/effective-presentation-skills-
 training-course-1-day-2-2027-01-06-2027-02-03-2027-03-03-2027-04-07-2027-0
 5-05-2027-06-02-2027-07-07-2027-08-04-2027-09-01-2027-10-06-2027-11-03/
SUMMARY:Effective Presentation Skills Training Course (1 Day)
DESCRIPTION:
CATEGORIES:Effective Presentation Skills Training Course (1
 Day),Presentation and Exhibition Skills Courses
LOCATION:Birmingham (B1 2HT)\, Novotel\, Birmingham\, B1 2HT\, United Kingd
 om
GEO:52.4763931;-1.9134664
X-APPLE-STRUCTURED-LOCATION;VALUE=URI;X-ADDRESS=Novotel\, Birmingham\, B1 2
 HT\, United Kingdom;X-APPLE-RADIUS=100;X-TITLE=Birmingham (B1 2HT):geo:52.
 4763931,-1.9134664
END:VEVENT
BEGIN:VTIMEZONE
TZID:Europe/London
X-LIC-LOCATION:Europe/London
BEGIN:STANDARD
DTSTART:20271031T010000
TZOFFSETFROM:+0100
TZOFFSETTO:+0000
TZNAME:GMT
END:STANDARD
END:VTIMEZONE
END:VCALENDAR