BEGIN:VCALENDAR
VERSION:2.0
PRODID:-//wp-events-plugin.com//7.2.2.1//EN
BEGIN:VEVENT
UID:18986@ripleytraining.co.uk
DTSTART;TZID=Europe/London:20280509T090000
DTEND;TZID=Europe/London:20280509T163000
DTSTAMP:20260419T132635Z
URL:https://www.ripleytraining.co.uk/events/effective-team-working-skills-
 training-course-1-day-8-2027-01-12-2027-03-09-2027-05-11-2027-07-13-2027-0
 9-14-2027-11-09-2028-01-11-2028-03-14-2028-05-09/
SUMMARY:Effective Team Working Skills Training Course (1 Day)
DESCRIPTION:
CATEGORIES:Effective Team Working Skills Training Course (1 Day),Team
 Member and Professional Courses
LOCATION:Birmingham (B1 2HT)\, Novotel\, Birmingham\, B1 2HT\, United Kingd
 om
GEO:52.4763931;-1.9134664
X-APPLE-STRUCTURED-LOCATION;VALUE=URI;X-ADDRESS=Novotel\, Birmingham\, B1 2
 HT\, United Kingdom;X-APPLE-RADIUS=100;X-TITLE=Birmingham (B1 2HT):geo:52.
 4763931,-1.9134664
END:VEVENT
BEGIN:VTIMEZONE
TZID:Europe/London
X-LIC-LOCATION:Europe/London
BEGIN:DAYLIGHT
DTSTART:20280326T020000
TZOFFSETFROM:+0000
TZOFFSETTO:+0100
TZNAME:BST
END:DAYLIGHT
END:VTIMEZONE
END:VCALENDAR