BEGIN:VCALENDAR
VERSION:2.0
PRODID:-//wp-events-plugin.com//7.2.2.1//EN
BEGIN:VEVENT
UID:17715@ripleytraining.co.uk
DTSTART;TZID=Europe/London:20281003T090000
DTEND;TZID=Europe/London:20281003T163000
DTSTAMP:20260418T203859Z
URL:https://www.ripleytraining.co.uk/events/effective-team-working-skills-
 training-course-1-day-9-2027-01-05-2027-02-02-2027-03-02-2027-04-06-2027-0
 5-04-2027-06-01-2027-07-06-2027-08-03-2027-09-07-2027-10-05-2027-11-02-202
 7-12-07-05-2028-10-03/
SUMMARY:Effective Team Working Skills Training Course (1 Day)
DESCRIPTION:
CATEGORIES:Effective Team Working Skills Training Course (1 Day),Team
 Member and Professional Courses
LOCATION:Edinburgh (EH3 9DE)\, Novotel Edinburgh Central\, Edinburgh\, EH3 
 9DE\, Scotland
GEO:55.9451264;-3.199793399999976
X-APPLE-STRUCTURED-LOCATION;VALUE=URI;X-ADDRESS=Novotel Edinburgh Central\,
  Edinburgh\, EH3 9DE\, Scotland;X-APPLE-RADIUS=100;X-TITLE=Edinburgh (EH3 
 9DE):geo:55.9451264,-3.199793399999976
END:VEVENT
BEGIN:VTIMEZONE
TZID:Europe/London
X-LIC-LOCATION:Europe/London
BEGIN:DAYLIGHT
DTSTART:20280326T020000
TZOFFSETFROM:+0000
TZOFFSETTO:+0100
TZNAME:BST
END:DAYLIGHT
END:VTIMEZONE
END:VCALENDAR