BEGIN:VCALENDAR
VERSION:2.0
PRODID:-//wp-events-plugin.com//7.2.2.1//EN
BEGIN:VEVENT
UID:19357@ripleytraining.co.uk
DTSTART;TZID=Europe/London:20270811T090000
DTEND;TZID=Europe/London:20270811T163000
DTSTAMP:20260419T143626Z
URL:https://www.ripleytraining.co.uk/events/employee-engagement-and-commun
 ication-training-course-1-day-2-2027-01-13-2027-02-10-2027-03-10-2027-04-1
 4-2027-05-12-2027-06-09-2027-07-14-2027-08-11/
SUMMARY:Employee Engagement and Communication Training Course (1 Day)
DESCRIPTION:
CATEGORIES:Employee Engagement and Communication Training Course (1
 Day),Leadership and Management Courses
LOCATION:Leeds (LS1 4HR)\, Novotel\, Leeds\, LS1 4HR\, United Kingdom
GEO:53.7953319;-1.552943599999935
X-APPLE-STRUCTURED-LOCATION;VALUE=URI;X-ADDRESS=Novotel\, Leeds\, LS1 4HR\,
  United Kingdom;X-APPLE-RADIUS=100;X-TITLE=Leeds (LS1 4HR):geo:53.7953319,
 -1.552943599999935
END:VEVENT
BEGIN:VTIMEZONE
TZID:Europe/London
X-LIC-LOCATION:Europe/London
BEGIN:DAYLIGHT
DTSTART:20270328T020000
TZOFFSETFROM:+0000
TZOFFSETTO:+0100
TZNAME:BST
END:DAYLIGHT
END:VTIMEZONE
END:VCALENDAR