BEGIN:VCALENDAR
VERSION:2.0
PRODID:-//wp-events-plugin.com//7.2.2.1//EN
BEGIN:VEVENT
UID:20034@ripleytraining.co.uk
DTSTART;TZID=Europe/London:20270121T090000
DTEND;TZID=Europe/London:20270121T163000
DTSTAMP:20260419T151435Z
URL:https://www.ripleytraining.co.uk/events/employee-engagement-and-commun
 ication-training-course-1-day-3-2027-01-21/
SUMMARY:Employee Engagement and Communication Training Course (1 Day)
DESCRIPTION:
CATEGORIES:Employee Engagement and Communication Training Course (1
 Day),Leadership and Management Courses
LOCATION:London Hilton Euston (WC1H 0HT)\, Hilton Euston Hotel\, 17-18 Uppe
 r Woburn Place\, London\, WC1H 0HT\, United Kingdom
GEO:51.526462;-0.130115
X-APPLE-STRUCTURED-LOCATION;VALUE=URI;X-ADDRESS=Hilton Euston Hotel\, 17-18
  Upper Woburn Place\, London\, WC1H 0HT\, United Kingdom;X-APPLE-RADIUS=10
 0;X-TITLE=London Hilton Euston (WC1H 0HT):geo:51.526462,-0.130115
END:VEVENT
BEGIN:VTIMEZONE
TZID:Europe/London
X-LIC-LOCATION:Europe/London
BEGIN:STANDARD
DTSTART:20261025T010000
TZOFFSETFROM:+0100
TZOFFSETTO:+0000
TZNAME:GMT
END:STANDARD
END:VTIMEZONE
END:VCALENDAR