BEGIN:VCALENDAR
VERSION:2.0
PRODID:-//wp-events-plugin.com//7.2.2.1//EN
BEGIN:VEVENT
UID:19288@ripleytraining.co.uk
DTSTART;TZID=Europe/London:20280912T090000
DTEND;TZID=Europe/London:20280912T163000
DTSTAMP:20260419T143052Z
URL:https://www.ripleytraining.co.uk/events/employee-engagement-and-commun
 ication-training-course-1-day-4-2027-01-12-2027-03-09-2027-05-11-2027-07-1
 3-2027-09-14-2027-11-09-2028-01-11-2028-03-14-2028-05-09-2028-07-11-2028-0
 9-12/
SUMMARY:Virtual Employee Engagement and Communication Training Course (1 Da
 y)
DESCRIPTION:
CATEGORIES:Employee Engagement and Communication Training Course (1
 Day),Leadership and Management Courses
LOCATION:Virtual Training\, Knaresborough Technology Park\, Knaresborough\,
  North Yorkshire\, HG5 8LF\, United Kingdom
GEO:54.004462;-1.446786
X-APPLE-STRUCTURED-LOCATION;VALUE=URI;X-ADDRESS=Knaresborough Technology Pa
 rk\, Knaresborough\, North Yorkshire\, HG5 8LF\, United Kingdom;X-APPLE-RA
 DIUS=100;X-TITLE=Virtual Training:geo:54.004462,-1.446786
END:VEVENT
BEGIN:VTIMEZONE
TZID:Europe/London
X-LIC-LOCATION:Europe/London
BEGIN:DAYLIGHT
DTSTART:20280326T020000
TZOFFSETFROM:+0000
TZOFFSETTO:+0100
TZNAME:BST
END:DAYLIGHT
END:VTIMEZONE
END:VCALENDAR