BEGIN:VCALENDAR
VERSION:2.0
PRODID:-//wp-events-plugin.com//7.2.2.1//EN
BEGIN:VEVENT
UID:19078@ripleytraining.co.uk
DTSTART;TZID=Europe/London:20270914T090000
DTEND;TZID=Europe/London:20270914T163000
DTSTAMP:20260419T141926Z
URL:https://www.ripleytraining.co.uk/events/essential-personal-executive-a
 ssistant-skills-training-course-1-day-15-2027-01-12-2027-03-09-2027-05-11-
 2027-07-13-2027-09-14/
SUMMARY:Essential Personal/Executive Assistant Skills Training Course (1 Da
 y)
DESCRIPTION:
CATEGORIES:Essential Personal/Executive Assistant Skills Training Course
 (1 Day),PA - EA - Secretarial and Receptionist Courses
LOCATION:York (YO24 1QQ)\, Marriott Hotel\, York\, YO24 1QQ\, United Kingdo
 m
GEO:53.9416075;-1.1043740999999727
X-APPLE-STRUCTURED-LOCATION;VALUE=URI;X-ADDRESS=Marriott Hotel\, York\, YO2
 4 1QQ\, United Kingdom;X-APPLE-RADIUS=100;X-TITLE=York (YO24 1QQ):geo:53.9
 416075,-1.1043740999999727
END:VEVENT
BEGIN:VTIMEZONE
TZID:Europe/London
X-LIC-LOCATION:Europe/London
BEGIN:DAYLIGHT
DTSTART:20270328T020000
TZOFFSETFROM:+0000
TZOFFSETTO:+0100
TZNAME:BST
END:DAYLIGHT
END:VTIMEZONE
END:VCALENDAR