BEGIN:VCALENDAR
VERSION:2.0
PRODID:-//wp-events-plugin.com//7.2.2.1//EN
BEGIN:VEVENT
UID:20874@ripleytraining.co.uk
DTSTART;TZID=Europe/London:20270902T090000
DTEND;TZID=Europe/London:20270902T163000
DTSTAMP:20260419T162831Z
URL:https://www.ripleytraining.co.uk/events/essential-personal-executive-a
 ssistant-skills-training-course-1-day-16-2026-11-05-2027-01-07-2027-03-04-
 2027-05-06-2027-07-01-2027-09-02/
SUMMARY:Essential Personal/Executive Assistant Skills Training Course (1 Da
 y)
DESCRIPTION:
CATEGORIES:Essential Personal/Executive Assistant Skills Training Course
 (1 Day),PA - EA - Secretarial and Receptionist Courses
LOCATION:Bristol (BS1 2EQ)\, Clayton Hotel\, 35-37 Broad St\, Bristol\, BS1
  2EQ\, United Kingdom
X-APPLE-STRUCTURED-LOCATION;VALUE=URI;X-ADDRESS=Clayton Hotel\, 35-37 Broad
  St\, Bristol\, BS1 2EQ\, United Kingdom;X-APPLE-RADIUS=100;X-TITLE=Bristo
 l (BS1 2EQ):geo:0,0
END:VEVENT
BEGIN:VTIMEZONE
TZID:Europe/London
X-LIC-LOCATION:Europe/London
BEGIN:DAYLIGHT
DTSTART:20270328T020000
TZOFFSETFROM:+0000
TZOFFSETTO:+0100
TZNAME:BST
END:DAYLIGHT
END:VTIMEZONE
END:VCALENDAR