BEGIN:VCALENDAR
VERSION:2.0
PRODID:-//wp-events-plugin.com//7.2.2.1//EN
BEGIN:VEVENT
UID:20900@ripleytraining.co.uk
DTSTART;TZID=Europe/London:20271214T090000
DTEND;TZID=Europe/London:20271214T163000
DTSTAMP:20260419T163101Z
URL:https://www.ripleytraining.co.uk/events/essential-personal-executive-a
 ssistant-skills-training-course-1-day-17-2027-02-09-2027-04-13-2027-06-08-
 2027-08-10-2027-10-12-2027-12-14/
SUMMARY:Essential Personal/Executive Assistant Skills Training Course (1 Da
 y)
DESCRIPTION:
CATEGORIES:Essential Personal/Executive Assistant Skills Training Course
 (1 Day),PA - EA - Secretarial and Receptionist Courses
LOCATION:Gloucester Mercure - Bowden Hall Hotel\, Bondend Lane\, Upton St L
 eonards\, Gloucestershire\, GL4 8ED\, Gloucestershire\, United Kingdom
X-APPLE-STRUCTURED-LOCATION;VALUE=URI;X-ADDRESS=Bondend Lane\, Upton St Leo
 nards\, Gloucestershire\, GL4 8ED\, Gloucestershire\, United Kingdom;X-APP
 LE-RADIUS=100;X-TITLE=Gloucester Mercure - Bowden Hall Hotel:geo:0,0
END:VEVENT
BEGIN:VTIMEZONE
TZID:Europe/London
X-LIC-LOCATION:Europe/London
BEGIN:STANDARD
DTSTART:20271031T010000
TZOFFSETFROM:+0100
TZOFFSETTO:+0000
TZNAME:GMT
END:STANDARD
END:VTIMEZONE
END:VCALENDAR