BEGIN:VCALENDAR
VERSION:2.0
PRODID:-//wp-events-plugin.com//7.2.2.1//EN
BEGIN:VEVENT
UID:20947@ripleytraining.co.uk
DTSTART;TZID=Europe/London:20271019T090000
DTEND;TZID=Europe/London:20271019T163000
DTSTAMP:20260419T163524Z
URL:https://www.ripleytraining.co.uk/events/essential-personal-executive-a
 ssistant-skills-training-course-1-day-23-2027-02-16-2027-04-20-2027-06-15-
 2027-08-17-2027-10-19/
SUMMARY:Essential Personal/Executive Assistant Skills Training Course (1 Da
 y)
DESCRIPTION:
CATEGORIES:Essential Personal/Executive Assistant Skills Training Course
 (1 Day),PA - EA - Secretarial and Receptionist Courses
LOCATION:Edinburgh (EH3 9DE)\, Novotel Edinburgh Central\, Edinburgh\, EH3 
 9DE\, Scotland
GEO:55.9451264;-3.199793399999976
X-APPLE-STRUCTURED-LOCATION;VALUE=URI;X-ADDRESS=Novotel Edinburgh Central\,
  Edinburgh\, EH3 9DE\, Scotland;X-APPLE-RADIUS=100;X-TITLE=Edinburgh (EH3 
 9DE):geo:55.9451264,-3.199793399999976
END:VEVENT
BEGIN:VTIMEZONE
TZID:Europe/London
X-LIC-LOCATION:Europe/London
BEGIN:DAYLIGHT
DTSTART:20270328T020000
TZOFFSETFROM:+0000
TZOFFSETTO:+0100
TZNAME:BST
END:DAYLIGHT
END:VTIMEZONE
END:VCALENDAR