BEGIN:VCALENDAR
VERSION:2.0
PRODID:-//wp-events-plugin.com//7.2.2.1//EN
BEGIN:VEVENT
UID:18130@ripleytraining.co.uk
DTSTART;TZID=Europe/London:20270901T090000
DTEND;TZID=Europe/London:20270901T163000
DTSTAMP:20260418T205857Z
URL:https://www.ripleytraining.co.uk/events/essential-personal-executive-a
 ssistant-skills-training-course-1-day-26-2027-01-06-2027-03-03-2027-05-05-
 2027-07-07-2027-09-01/
SUMMARY:Essential Personal/Executive Assistant Skills Training Course (1 Da
 y)
DESCRIPTION:
CATEGORIES:Essential Personal/Executive Assistant Skills Training Course
 (1 Day),PA - EA - Secretarial and Receptionist Courses
LOCATION:Newcastle Gateshead (NE8 2AR)\, Newcastle Gateshead Hilton\, Newca
 stle\, NE8 2AR\, United Kingdom
GEO:54.966418;-1.605796
X-APPLE-STRUCTURED-LOCATION;VALUE=URI;X-ADDRESS=Newcastle Gateshead Hilton\
 , Newcastle\, NE8 2AR\, United Kingdom;X-APPLE-RADIUS=100;X-TITLE=Newcastl
 e Gateshead (NE8 2AR):geo:54.966418,-1.605796
END:VEVENT
BEGIN:VTIMEZONE
TZID:Europe/London
X-LIC-LOCATION:Europe/London
BEGIN:DAYLIGHT
DTSTART:20270328T020000
TZOFFSETFROM:+0000
TZOFFSETTO:+0100
TZNAME:BST
END:DAYLIGHT
END:VTIMEZONE
END:VCALENDAR