BEGIN:VCALENDAR
VERSION:2.0
PRODID:-//wp-events-plugin.com//7.2.2.1//EN
BEGIN:VEVENT
UID:19847@ripleytraining.co.uk
DTSTART;TZID=Europe/London:20271117T090000
DTEND;TZID=Europe/London:20271117T163000
DTSTAMP:20260419T150700Z
URL:https://www.ripleytraining.co.uk/events/essential-personal-executive-a
 ssistant-skills-training-course-1-day-28-2027-01-20-2027-03-17-2027-05-19-
 2027-07-21-2027-09-15-2027-11-17/
SUMMARY:Essential Personal/Executive Assistant Skills Training Course (1 Da
 y)
DESCRIPTION:
CATEGORIES:Essential Personal/Executive Assistant Skills Training Course
 (1 Day),PA - EA - Secretarial and Receptionist Courses
LOCATION:Peterborough (PE1 1BA)\, Park Inn\, Peterborough\, PE1 1BA\, Unite
 d Kingdom
GEO:52.5707848;-0.24520600000005288
X-APPLE-STRUCTURED-LOCATION;VALUE=URI;X-ADDRESS=Park Inn\, Peterborough\, P
 E1 1BA\, United Kingdom;X-APPLE-RADIUS=100;X-TITLE=Peterborough (PE1 1BA):
 geo:52.5707848,-0.24520600000005288
END:VEVENT
BEGIN:VTIMEZONE
TZID:Europe/London
X-LIC-LOCATION:Europe/London
BEGIN:STANDARD
DTSTART:20271031T010000
TZOFFSETFROM:+0100
TZOFFSETTO:+0000
TZNAME:GMT
END:STANDARD
END:VTIMEZONE
END:VCALENDAR