BEGIN:VCALENDAR
VERSION:2.0
PRODID:-//wp-events-plugin.com//7.2.2.1//EN
BEGIN:VEVENT
UID:18439@ripleytraining.co.uk
DTSTART;TZID=Europe/London:20280203T090000
DTEND;TZID=Europe/London:20280203T163000
DTSTAMP:20260418T211511Z
URL:https://www.ripleytraining.co.uk/events/essential-personal-executive-a
 ssistant-skills-training-course-1-day-3-2027-01-07-2027-02-04-2027-03-04-2
 027-04-01-2027-05-06-2027-06-03-2027-07-01-2027-08-05-2027-09-02-2027-10-0
 7-2027-1-06-2028-02-03/
SUMMARY:Essential Personal/Executive Assistant Skills Training Course (1 Da
 y)
DESCRIPTION:
CATEGORIES:Essential Personal/Executive Assistant Skills Training Course
 (1 Day),PA - EA - Secretarial and Receptionist Courses
LOCATION:Birmingham (B1 2HT)\, Novotel\, Birmingham\, B1 2HT\, United Kingd
 om
GEO:52.4763931;-1.9134664
X-APPLE-STRUCTURED-LOCATION;VALUE=URI;X-ADDRESS=Novotel\, Birmingham\, B1 2
 HT\, United Kingdom;X-APPLE-RADIUS=100;X-TITLE=Birmingham (B1 2HT):geo:52.
 4763931,-1.9134664
END:VEVENT
BEGIN:VTIMEZONE
TZID:Europe/London
X-LIC-LOCATION:Europe/London
BEGIN:STANDARD
DTSTART:20271031T010000
TZOFFSETFROM:+0100
TZOFFSETTO:+0000
TZNAME:GMT
END:STANDARD
END:VTIMEZONE
END:VCALENDAR