BEGIN:VCALENDAR
VERSION:2.0
PRODID:-//wp-events-plugin.com//7.2.2.1//EN
BEGIN:VEVENT
UID:18151@ripleytraining.co.uk
DTSTART;TZID=Europe/London:20280202T090000
DTEND;TZID=Europe/London:20280202T163000
DTSTAMP:20260418T210005Z
URL:https://www.ripleytraining.co.uk/events/essential-skills-for-high-impa
 ct-individual-contributors-training-course-1-day-3-2027-01-06-2027-02-03-2
 027-03-03-2027-04-07-2027-05-05-2027-06-02-2027-07-07-2027-08-04-2027-09-0
 1-2027-1-05-2028-02-02/
SUMMARY:Essential Skills for High Impact Individual Contributors Training C
 ourse (1 Day)
DESCRIPTION:
CATEGORIES:Business Process Improvement and Process Mapping Workshop (2
 Day In-company),Essential Skills for High Impact Individual Contributors
 Training Course (1 Day),Team Member and Professional Courses
LOCATION:Birmingham (B1 2HT)\, Novotel\, Birmingham\, B1 2HT\, United Kingd
 om
GEO:52.4763931;-1.9134664
X-APPLE-STRUCTURED-LOCATION;VALUE=URI;X-ADDRESS=Novotel\, Birmingham\, B1 2
 HT\, United Kingdom;X-APPLE-RADIUS=100;X-TITLE=Birmingham (B1 2HT):geo:52.
 4763931,-1.9134664
END:VEVENT
BEGIN:VTIMEZONE
TZID:Europe/London
X-LIC-LOCATION:Europe/London
BEGIN:STANDARD
DTSTART:20271031T010000
TZOFFSETFROM:+0100
TZOFFSETTO:+0000
TZNAME:GMT
END:STANDARD
END:VTIMEZONE
END:VCALENDAR