BEGIN:VCALENDAR
VERSION:2.0
PRODID:-//wp-events-plugin.com//7.2.2.1//EN
BEGIN:VEVENT
UID:18461@ripleytraining.co.uk
DTSTART;TZID=Europe/London:20271202T090000
DTEND;TZID=Europe/London:20271202T163000
DTSTAMP:20260418T211551Z
URL:https://www.ripleytraining.co.uk/events/essential-skills-for-high-impa
 ct-individual-contributors-training-course-1-day-4-2027-01-07-2027-02-04-2
 027-03-04-2027-04-01-2027-05-06-2027-06-03-2027-07-01-2027-08-05-2027-09-0
 2-2027-1-04-2027-12-02/
SUMMARY:Essential Skills for High Impact Individual Contributors Training C
 ourse (1 Day)
DESCRIPTION:
CATEGORIES:Essential Skills for High Impact Individual Contributors
 Training Course (1 Day),Team Member and Professional Courses
LOCATION:Leeds (LS1 4HR)\, Novotel\, Leeds\, LS1 4HR\, United Kingdom
GEO:53.7953319;-1.552943599999935
X-APPLE-STRUCTURED-LOCATION;VALUE=URI;X-ADDRESS=Novotel\, Leeds\, LS1 4HR\,
  United Kingdom;X-APPLE-RADIUS=100;X-TITLE=Leeds (LS1 4HR):geo:53.7953319,
 -1.552943599999935
END:VEVENT
BEGIN:VTIMEZONE
TZID:Europe/London
X-LIC-LOCATION:Europe/London
BEGIN:STANDARD
DTSTART:20271031T010000
TZOFFSETFROM:+0100
TZOFFSETTO:+0000
TZNAME:GMT
END:STANDARD
END:VTIMEZONE
END:VCALENDAR