BEGIN:VCALENDAR
VERSION:2.0
PRODID:-//wp-events-plugin.com//7.2.2.1//EN
BEGIN:VEVENT
UID:18477@ripleytraining.co.uk
DTSTART;TZID=Europe/London:20270401T090000
DTEND;TZID=Europe/London:20270401T163000
DTSTAMP:20260418T211732Z
URL:https://www.ripleytraining.co.uk/events/essential-skills-for-high-impa
 ct-individual-contributors-training-course-1-day-5-2027-01-07-2027-02-04-2
 027-03-04-2027-04-01/
SUMMARY:Essential Skills for High Impact Individual Contributors Training C
 ourse (1 Day)
DESCRIPTION:
CATEGORIES:Essential Skills for High Impact Individual Contributors
 Training Course (1 Day),Team Member and Professional Courses
LOCATION:Edinburgh (EH3 9DE)\, Novotel Edinburgh Central\, Edinburgh\, EH3 
 9DE\, Scotland
GEO:55.9451264;-3.199793399999976
X-APPLE-STRUCTURED-LOCATION;VALUE=URI;X-ADDRESS=Novotel Edinburgh Central\,
  Edinburgh\, EH3 9DE\, Scotland;X-APPLE-RADIUS=100;X-TITLE=Edinburgh (EH3 
 9DE):geo:55.9451264,-3.199793399999976
END:VEVENT
BEGIN:VTIMEZONE
TZID:Europe/London
X-LIC-LOCATION:Europe/London
BEGIN:DAYLIGHT
DTSTART:20270328T020000
TZOFFSETFROM:+0000
TZOFFSETTO:+0100
TZNAME:BST
END:DAYLIGHT
END:VTIMEZONE
END:VCALENDAR