BEGIN:VCALENDAR
VERSION:2.0
PRODID:-//wp-events-plugin.com//7.2.2.1//EN
BEGIN:VEVENT
UID:16561@ripleytraining.co.uk
DTSTART;TZID=Europe/London:20261105T090000
DTEND;TZID=Europe/London:20261105T163000
DTSTAMP:20260418T211808Z
URL:https://www.ripleytraining.co.uk/events/essential-skills-for-high-impa
 ct-individual-contributors-training-course-1-day-6-2026-11-05/
SUMMARY:Essential Skills for High Impact Individual Contributors Training C
 ourse (1 Day)
DESCRIPTION:
CATEGORIES:Essential Skills for High Impact Individual Contributors
 Training Course (1 Day),Team Member and Professional Courses
LOCATION:Virtual Training\, Knaresborough Technology Park\, Knaresborough\,
  North Yorkshire\, HG5 8LF\, United Kingdom
GEO:54.004462;-1.446786
X-APPLE-STRUCTURED-LOCATION;VALUE=URI;X-ADDRESS=Knaresborough Technology Pa
 rk\, Knaresborough\, North Yorkshire\, HG5 8LF\, United Kingdom;X-APPLE-RA
 DIUS=100;X-TITLE=Virtual Training:geo:54.004462,-1.446786
END:VEVENT
BEGIN:VTIMEZONE
TZID:Europe/London
X-LIC-LOCATION:Europe/London
BEGIN:STANDARD
DTSTART:20261025T010000
TZOFFSETFROM:+0100
TZOFFSETTO:+0000
TZNAME:GMT
END:STANDARD
END:VTIMEZONE
END:VCALENDAR