BEGIN:VCALENDAR
VERSION:2.0
PRODID:-//wp-events-plugin.com//7.2.2.1//EN
BEGIN:VEVENT
UID:18555@ripleytraining.co.uk
DTSTART;TZID=Europe/London:20281005T090000
DTEND;TZID=Europe/London:20281005T163000
DTSTAMP:20260418T212004Z
URL:https://www.ripleytraining.co.uk/events/event-management-skills-traini
 ng-course-1-day-5-2027-01-07-2027-02-04-2027-03-04-2027-04-01-2027-05-06-2
 027-06-03-2027-07-01-2027-08-05-2027-09-02-2027-10-07-2027-11-04-2027-12-0
 2-2028-0-07-2028-10-05/
SUMMARY:Event Management Skills Training Course (1 Day)
DESCRIPTION:
CATEGORIES:Event Management Skills Training Course (1 Day),PA - EA -
 Secretarial and Receptionist Courses
LOCATION:Birmingham (B1 2HT)\, Novotel\, Birmingham\, B1 2HT\, United Kingd
 om
GEO:52.4763931;-1.9134664
X-APPLE-STRUCTURED-LOCATION;VALUE=URI;X-ADDRESS=Novotel\, Birmingham\, B1 2
 HT\, United Kingdom;X-APPLE-RADIUS=100;X-TITLE=Birmingham (B1 2HT):geo:52.
 4763931,-1.9134664
END:VEVENT
BEGIN:VTIMEZONE
TZID:Europe/London
X-LIC-LOCATION:Europe/London
BEGIN:DAYLIGHT
DTSTART:20280326T020000
TZOFFSETFROM:+0000
TZOFFSETTO:+0100
TZNAME:BST
END:DAYLIGHT
END:VTIMEZONE
END:VCALENDAR