BEGIN:VCALENDAR
VERSION:2.0
PRODID:-//wp-events-plugin.com//7.2.2.1//EN
BEGIN:VEVENT
UID:17821@ripleytraining.co.uk
DTSTART;TZID=Europe/London:20280801T090000
DTEND;TZID=Europe/London:20280801T163000
DTSTAMP:20260418T204404Z
URL:https://www.ripleytraining.co.uk/events/exhibition-and-trade-show-skil
 ls-training-course-1-day-4-2027-01-05-2027-02-02-2027-03-02-2027-04-06-202
 7-05-04-2027-06-01-2027-07-06-2027-08-03-2027-09-07-2027-10-05-2027-11-02-
 2027-12-04-2028-08-01/
SUMMARY:Exhibition and Trade Show Skills Training Course (1 Day)
DESCRIPTION:
CATEGORIES:Exhibition and Trade Show Skills Training Course (1
 Day),Presentation and Exhibition Skills Courses
LOCATION:Edinburgh (EH3 9DE)\, Novotel Edinburgh Central\, Edinburgh\, EH3 
 9DE\, Scotland
GEO:55.9451264;-3.199793399999976
X-APPLE-STRUCTURED-LOCATION;VALUE=URI;X-ADDRESS=Novotel Edinburgh Central\,
  Edinburgh\, EH3 9DE\, Scotland;X-APPLE-RADIUS=100;X-TITLE=Edinburgh (EH3 
 9DE):geo:55.9451264,-3.199793399999976
END:VEVENT
BEGIN:VTIMEZONE
TZID:Europe/London
X-LIC-LOCATION:Europe/London
BEGIN:DAYLIGHT
DTSTART:20280326T020000
TZOFFSETFROM:+0000
TZOFFSETTO:+0100
TZNAME:BST
END:DAYLIGHT
END:VTIMEZONE
END:VCALENDAR