BEGIN:VCALENDAR
VERSION:2.0
PRODID:-//wp-events-plugin.com//7.2.2.1//EN
BEGIN:VEVENT
UID:19115@ripleytraining.co.uk
DTSTART;TZID=Europe/London:20271109T090000
DTEND;TZID=Europe/London:20271109T163000
DTSTAMP:20260419T142118Z
URL:https://www.ripleytraining.co.uk/events/first-line-management-and-supe
 rvision-skills-training-course-1-day-11-2027-01-12-2027-03-09-2027-05-11-2
 027-07-13-2027-09-14-2027-11-09/
SUMMARY:First Line Management and Supervision Skills Training Course (1 Day
 )
DESCRIPTION:
CATEGORIES:First Line Management and Supervision Skills Training Course
 (One Day),Leadership and Management Courses
LOCATION:Gloucester Mercure - Bowden Hall Hotel\, Bondend Lane\, Upton St L
 eonards\, Gloucestershire\, GL4 8ED\, Gloucestershire\, United Kingdom
X-APPLE-STRUCTURED-LOCATION;VALUE=URI;X-ADDRESS=Bondend Lane\, Upton St Leo
 nards\, Gloucestershire\, GL4 8ED\, Gloucestershire\, United Kingdom;X-APP
 LE-RADIUS=100;X-TITLE=Gloucester Mercure - Bowden Hall Hotel:geo:0,0
END:VEVENT
BEGIN:VTIMEZONE
TZID:Europe/London
X-LIC-LOCATION:Europe/London
BEGIN:STANDARD
DTSTART:20271031T010000
TZOFFSETFROM:+0100
TZOFFSETTO:+0000
TZNAME:GMT
END:STANDARD
END:VTIMEZONE
END:VCALENDAR