BEGIN:VCALENDAR
VERSION:2.0
PRODID:-//wp-events-plugin.com//7.2.2.1//EN
BEGIN:VEVENT
UID:20149@ripleytraining.co.uk
DTSTART;TZID=Europe/London:20280316T090000
DTEND;TZID=Europe/London:20280316T163000
DTSTAMP:20260419T151938Z
URL:https://www.ripleytraining.co.uk/events/first-line-management-and-supe
 rvision-skills-training-course-1-day-12-2027-01-21-2027-03-18-2027-05-20-2
 027-07-15-2027-09-16-2027-11-18-2028-01-20-2028-03-16/
SUMMARY:First Line Management and Supervision Skills Training Course (1 Day
 )
DESCRIPTION:
CATEGORIES:First Line Management and Supervision Skills Training Course
 (One Day),Leadership and Management Courses
LOCATION:Stratford upon Avon (CV37 6YR)\, Crowne Plaza Hotel\, Stratford Up
 on Avon\, CV37 6YR\, United Kingdom
GEO:52.1929921;-1.7004561
X-APPLE-STRUCTURED-LOCATION;VALUE=URI;X-ADDRESS=Crowne Plaza Hotel\, Stratf
 ord Upon Avon\, CV37 6YR\, United Kingdom;X-APPLE-RADIUS=100;X-TITLE=Strat
 ford upon Avon (CV37 6YR):geo:52.1929921,-1.7004561
END:VEVENT
BEGIN:VTIMEZONE
TZID:Europe/London
X-LIC-LOCATION:Europe/London
BEGIN:STANDARD
DTSTART:20271031T010000
TZOFFSETFROM:+0100
TZOFFSETTO:+0000
TZNAME:GMT
END:STANDARD
END:VTIMEZONE
END:VCALENDAR