BEGIN:VCALENDAR
VERSION:2.0
PRODID:-//wp-events-plugin.com//7.2.2.1//EN
BEGIN:VEVENT
UID:18195@ripleytraining.co.uk
DTSTART;TZID=Europe/London:20271006T090000
DTEND;TZID=Europe/London:20271006T163000
DTSTAMP:20260418T210205Z
URL:https://www.ripleytraining.co.uk/events/first-line-management-and-supe
 rvision-skills-training-course-1-day-13-2027-01-06-2027-02-03-2027-03-03-2
 027-04-07-2027-05-05-2027-06-02-2027-07-07-2027-08-04-2027-09-01-2027-10-0
 6/
SUMMARY:First Line Management and Supervision Skills Training Course (1 Day
 )
DESCRIPTION:
CATEGORIES:First Line Management and Supervision Skills Training Course
 (One Day),Leadership and Management Courses
LOCATION:Middlesbrough (TS1 1JH)\, Jurys Inn \, Middlesbrough\, Teeside\, T
 S1 1JH\, North East\, United Kingdom
GEO:54.57667799999999;-1.2311928999999964
X-APPLE-STRUCTURED-LOCATION;VALUE=URI;X-ADDRESS=Jurys Inn \, Middlesbrough\
 , Teeside\, TS1 1JH\, North East\, United Kingdom;X-APPLE-RADIUS=100;X-TIT
 LE=Middlesbrough (TS1 1JH):geo:54.57667799999999,-1.2311928999999964
END:VEVENT
BEGIN:VTIMEZONE
TZID:Europe/London
X-LIC-LOCATION:Europe/London
BEGIN:DAYLIGHT
DTSTART:20270328T020000
TZOFFSETFROM:+0000
TZOFFSETTO:+0100
TZNAME:BST
END:DAYLIGHT
END:VTIMEZONE
END:VCALENDAR